BEGIN:VCALENDAR
VERSION:2.0
PRODID:-//Asset Management Council - ECPv6.15.16//NONSGML v1.0//EN
CALSCALE:GREGORIAN
METHOD:PUBLISH
X-WR-CALNAME:Asset Management Council
X-ORIGINAL-URL:https://www.amcouncil.com.au
X-WR-CALDESC:Events for Asset Management Council
REFRESH-INTERVAL;VALUE=DURATION:PT1H
X-Robots-Tag:noindex
X-PUBLISHED-TTL:PT1H
BEGIN:VTIMEZONE
TZID:Australia/Melbourne
BEGIN:STANDARD
TZOFFSETFROM:+1100
TZOFFSETTO:+1000
TZNAME:AEST
DTSTART:20220402T160000
END:STANDARD
BEGIN:DAYLIGHT
TZOFFSETFROM:+1000
TZOFFSETTO:+1100
TZNAME:AEDT
DTSTART:20221001T160000
END:DAYLIGHT
BEGIN:STANDARD
TZOFFSETFROM:+1100
TZOFFSETTO:+1000
TZNAME:AEST
DTSTART:20230401T160000
END:STANDARD
BEGIN:DAYLIGHT
TZOFFSETFROM:+1000
TZOFFSETTO:+1100
TZNAME:AEDT
DTSTART:20230930T160000
END:DAYLIGHT
BEGIN:STANDARD
TZOFFSETFROM:+1100
TZOFFSETTO:+1000
TZNAME:AEST
DTSTART:20240406T160000
END:STANDARD
BEGIN:DAYLIGHT
TZOFFSETFROM:+1000
TZOFFSETTO:+1100
TZNAME:AEDT
DTSTART:20241005T160000
END:DAYLIGHT
END:VTIMEZONE
BEGIN:VEVENT
DTSTART;TZID=Australia/Melbourne:20231011T180000
DTEND;TZID=Australia/Melbourne:20231011T190000
DTSTAMP:20260425T094043
CREATED:20230926T003141Z
LAST-MODIFIED:20230926T005206Z
UID:5664-1697047200-1697050800@www.amcouncil.com.au
SUMMARY:Webinar - Influence and Impact: Crafting Persuasive Narratives for Project Success
DESCRIPTION:Join our webinar to improve your impact and influence with decision makers and stakeholders. In this presentation\, Dr. Monique Beedles will provide a framework for building a persuasive case for your projects and ideas\, and offer tips for effectively communicating your message to your intended audience. \n  \nClick here to register\n  \nAbout the speaker:  \nDr. Monique Beedles\, Director\, Teak Yew \nDr. Monique Beedles is a seasoned company director\, with more than 23 years of experience as a director and board chair. Monique is a trusted advisor to senior decision makers\, including boards\, business owners\, and C-Suite executives. \nMonique is a Fellow of the Australian Institute of Company Directors\, with a PhD in Corporate Strategy\, a Master of Finance\, and postgraduate training in Corporate Communications. Monique is passionate about lifelong professional development\, which includes completing Executive Education at Harvard Business School.
URL:https://www.amcouncil.com.au/event/webinar-influence-and-impact-crafting-persuasive-narratives-for-project-success/
LOCATION:Online – Register to be sent your link
CATEGORIES:Webinar
END:VEVENT
END:VCALENDAR