BEGIN:VCALENDAR
VERSION:2.0
PRODID:-//Asset Management Council - ECPv6.15.16//NONSGML v1.0//EN
CALSCALE:GREGORIAN
METHOD:PUBLISH
X-ORIGINAL-URL:https://www.amcouncil.com.au
X-WR-CALDESC:Events for Asset Management Council
REFRESH-INTERVAL;VALUE=DURATION:PT1H
X-Robots-Tag:noindex
X-PUBLISHED-TTL:PT1H
BEGIN:VTIMEZONE
TZID:Australia/Melbourne
BEGIN:STANDARD
TZOFFSETFROM:+1100
TZOFFSETTO:+1000
TZNAME:AEST
DTSTART:20220402T160000
END:STANDARD
BEGIN:DAYLIGHT
TZOFFSETFROM:+1000
TZOFFSETTO:+1100
TZNAME:AEDT
DTSTART:20221001T160000
END:DAYLIGHT
BEGIN:STANDARD
TZOFFSETFROM:+1100
TZOFFSETTO:+1000
TZNAME:AEST
DTSTART:20230401T160000
END:STANDARD
BEGIN:DAYLIGHT
TZOFFSETFROM:+1000
TZOFFSETTO:+1100
TZNAME:AEDT
DTSTART:20230930T160000
END:DAYLIGHT
BEGIN:STANDARD
TZOFFSETFROM:+1100
TZOFFSETTO:+1000
TZNAME:AEST
DTSTART:20240406T160000
END:STANDARD
BEGIN:DAYLIGHT
TZOFFSETFROM:+1000
TZOFFSETTO:+1100
TZNAME:AEDT
DTSTART:20241005T160000
END:DAYLIGHT
END:VTIMEZONE
BEGIN:VEVENT
DTSTART;TZID=Australia/Melbourne:20231013T090000
DTEND;TZID=Australia/Melbourne:20231013T170000
DTSTAMP:20260426T070443
CREATED:20230918T011319Z
LAST-MODIFIED:20231009T005247Z
UID:5588-1697187600-1697216400@www.amcouncil.com.au
SUMMARY:National Symposium (Melbourne) - Integrating Asset Management into an Organisation
DESCRIPTION:Join us for the AM Council’s Annual Asset Management Symposium\, where this year’s theme is “Integrating Asset Management into an Organisation.” This is a must-attend event for professionals seeking to elevate their asset management strategies to new heights. The symposium will delve into the complexities and opportunities of integrated management systems\, offering valuable insights into how safety\, climate resilience\, business continuity\, cybersecurity\, environmental management systems\, and quality systems can be holistically incorporated into an effective asset management framework. Through a rich lineup of industry experts\, panel discussions\, and case study presentations\, you’ll gain actionable knowledge to revolutionize your organization’s approach to asset management. Don’t miss this unique opportunity to learn from the best in the field\, network with like-minded professionals\, and bring back innovative solutions to your organization. \nRegister now to be part of this game-changing dialogue! \nThis is an in person event only. The cost in Australian dollars to attend is: AMCouncil members $250\, non-members $400. \nClick here to register\n  \nAMCouncil ASSET MANAGEMENT 2023 ANNUAL SYMPOSIUM PROGRAM \nDraft – subject to change Friday 13 October 2023 at Isabella Fraser Room\, State Library Victoria Swanston Street MelbourneTheme: Integrating Asset Management into an Organisation\n\n\n\n\n8:00-9:00am\nRegistration\nArrival Tea and Coffee\n\n\n\nSETTING THE SCENE\n\n\n\n8:45 – 9:00am\nWelcome\, Housekeeping and Overview of Integrated Asset Management\nRami Affan\, Facilitator\n\n\n9:00 – 9:30am\nBenefit of integrating management systems.    Most common challenges and opportunities in working toward integrating their systems\,\nBianca Odrljin (Management Systems Certification Manager – Pacific\, Bureau Veritas Australia &NZ\n\n\n9:30am – 10:00am\nComparing Integrated Management systems implementations in several organisations and identification of key elements.  Examples of integrated management systems\nMichael McLean\, Managing Director of McLean Management Consultants Pty Ltd\nTom Carpenter\, CEO IQ-AM\n\n\n10:00 – 10:30am\nCase Study: Integrating Asset Management – the BAE Systems AM journey\nLaurie Smith\, BAE Systems\n\n\n10:30- 11:00\nMORNING TEA\n\n\n\n\nIntegrated Management systems\,  Resilience & Sustainability\, Environmental\, Quality\n\n\n11:00-11:30am\nResilience and Sustainability integration with Asset Management Tips and tricks\nStephen Walker\, Leader Asset Strategies\, Stantec\n\n\n11:30-12noon\nCase Study: Melbourne Water’s Environmental Management System.  Integrating ESG Goals into Decision Frameworks for Natural Assets.\nAlison Rickard\, Senior Asset Manager\, Melbourne Water\n\n\n12-12:30pm\nIntegrating Asset Management in a large contractor/operator business\nDonny Yap\, GM Strategy\, Sustainability & Innovation\, Transport\, Ventia\n\n\n12:30-1:30\nLUNCH\n\n\n\n\nCASE STUDIES: Facilities Management\,  Information Management\, Safety Management\n\n\n1:30 – 2:00pm\nCase Study: Integrating facilities management and asset management in the public sector\nPeter Murphy\, Assistant Director Asset Management\, Court Services\n\n\n2:00-2:30pm\nCase Study: Integrating facilities management and asset management in the private sector\nWill Ma\, Head of Asset Management & Analytics Engineering & Asset Management\, Cushman & Wakefield\n\n\n2:30-3:00pm\nCase Study: Victorian Department of Health services information management system – integrating information management system with asset management system\nHessam Mohseni\, Acting Director Asset Performance & Compliance\n\n\n3:00-3:30pm\nAFTERNOON TEA\n\n\n\n\nIntegrate AM in Business transformations\, Maturity\, International approaches\n\n\n3:30-4:00pm\nHow the integrated asset management system has enabled an organisation to respond with agility through its mergers and acquisitions:  a case study .\nDriving an integrated asset management approach through an organisational transformation\nChris Wong\, Framework and Knowledge Manager\, Downer \nDavid Kramer\, Group Manager Assets and Maintenance\, Downer\n\n\n4:00-4:30pm\n\nPanel Session:  International approaches to Integrated Management systems\n\nChallenges to integrating AM\nIdeas to facilitate integration\nHow does integrated AM effect organisational maturity\n\n\nFacilitator:  Rami Affan\nPanel:  Dave Daines\, Martin Kerr\, Tom Carpenter\, John Hardwick\n\n\n4:30-4:45pm\nCONCLUSION – summary and key takeaways\n\n\n\nInvitation to stay for canapes and enjoy networking with delegates\n 
URL:https://www.amcouncil.com.au/event/national-symposium-melbourne-integrating-asset-management-into-an-organisation/
LOCATION:State Library Victoria\, 328 Swanston Street\, Melbourne\, Victoria\, 3000\, Australia
END:VEVENT
END:VCALENDAR