BEGIN:VCALENDAR
VERSION:2.0
PRODID:-//Asset Management Council - ECPv6.15.16//NONSGML v1.0//EN
CALSCALE:GREGORIAN
METHOD:PUBLISH
X-ORIGINAL-URL:https://www.amcouncil.com.au
X-WR-CALDESC:Events for Asset Management Council
REFRESH-INTERVAL;VALUE=DURATION:PT1H
X-Robots-Tag:noindex
X-PUBLISHED-TTL:PT1H
BEGIN:VTIMEZONE
TZID:Australia/Melbourne
BEGIN:STANDARD
TZOFFSETFROM:+1100
TZOFFSETTO:+1000
TZNAME:AEST
DTSTART:20220402T160000
END:STANDARD
BEGIN:DAYLIGHT
TZOFFSETFROM:+1000
TZOFFSETTO:+1100
TZNAME:AEDT
DTSTART:20221001T160000
END:DAYLIGHT
BEGIN:STANDARD
TZOFFSETFROM:+1100
TZOFFSETTO:+1000
TZNAME:AEST
DTSTART:20230401T160000
END:STANDARD
BEGIN:DAYLIGHT
TZOFFSETFROM:+1000
TZOFFSETTO:+1100
TZNAME:AEDT
DTSTART:20230930T160000
END:DAYLIGHT
BEGIN:STANDARD
TZOFFSETFROM:+1100
TZOFFSETTO:+1000
TZNAME:AEST
DTSTART:20240406T160000
END:STANDARD
BEGIN:DAYLIGHT
TZOFFSETFROM:+1000
TZOFFSETTO:+1100
TZNAME:AEDT
DTSTART:20241005T160000
END:DAYLIGHT
END:VTIMEZONE
BEGIN:VEVENT
DTSTART;TZID=Australia/Melbourne:20231014T090000
DTEND;TZID=Australia/Melbourne:20231014T170000
DTSTAMP:20260425T060049
CREATED:20230919T014451Z
LAST-MODIFIED:20230919T020912Z
UID:5607-1697274000-1697302800@www.amcouncil.com.au
SUMMARY:Melbourne - Members Only Asset Management Technical Workshop on Asset Management Updates
DESCRIPTION:Don’t miss out on an essential technical workshop on Saturday\, 14th October\, hosted by the AM Council at the State Library in Melbourne. This event comes a day after our annual national asset management symposium\, so why not make a weekend of it and attend both? \nWe’ll be diving deep into the latest updates in the field of Asset Management. This workshop will focus on critical changes to the GFMAM Landscape Document and the ISO 5500x series of standards. More importantly\, you’ll have the opportunity to engage in lively discussions about how these updates could be integrated into the AM Council’s own asset management framework to make it more robust and contemporary. \nEvent Highlights: \n\nLocation: State Library\, Melbourne\nDate: Saturday\, 14th October\nFocus on GFMAM Landscape Document and ISO 5500x series updates\nEngaging discussions on integrating updates into the AM Council’s framework\nA light luncheon will be provided\n\nWhether you’re a seasoned professional or new to the asset management arena\, this workshop offers a unique platform to gain insights\, ask questions\, and contribute to the evolution of asset management practices. \nPlease Note: This event is free for AM Council members only. Registration is essential to secure your spot. \nSecure your spot today and be part of shaping the future of asset management! \n  \nClick here to register
URL:https://www.amcouncil.com.au/event/melbourne-members-only-asset-management-technical-workshop-on-asset-management-updates/
LOCATION:State Library Victoria\, 328 Swanston Street\, Melbourne\, Victoria\, 3000\, Australia
CATEGORIES:Melbourne Chapter Events
END:VEVENT
END:VCALENDAR