BEGIN:VCALENDAR
VERSION:2.0
PRODID:-//Asset Management Council - ECPv6.15.16//NONSGML v1.0//EN
CALSCALE:GREGORIAN
METHOD:PUBLISH
X-WR-CALNAME:Asset Management Council
X-ORIGINAL-URL:https://www.amcouncil.com.au
X-WR-CALDESC:Events for Asset Management Council
REFRESH-INTERVAL;VALUE=DURATION:PT1H
X-Robots-Tag:noindex
X-PUBLISHED-TTL:PT1H
BEGIN:VTIMEZONE
TZID:Australia/Melbourne
BEGIN:STANDARD
TZOFFSETFROM:+1100
TZOFFSETTO:+1000
TZNAME:AEST
DTSTART:20220402T160000
END:STANDARD
BEGIN:DAYLIGHT
TZOFFSETFROM:+1000
TZOFFSETTO:+1100
TZNAME:AEDT
DTSTART:20221001T160000
END:DAYLIGHT
BEGIN:STANDARD
TZOFFSETFROM:+1100
TZOFFSETTO:+1000
TZNAME:AEST
DTSTART:20230401T160000
END:STANDARD
BEGIN:DAYLIGHT
TZOFFSETFROM:+1000
TZOFFSETTO:+1100
TZNAME:AEDT
DTSTART:20230930T160000
END:DAYLIGHT
BEGIN:STANDARD
TZOFFSETFROM:+1100
TZOFFSETTO:+1000
TZNAME:AEST
DTSTART:20240406T160000
END:STANDARD
BEGIN:DAYLIGHT
TZOFFSETFROM:+1000
TZOFFSETTO:+1100
TZNAME:AEDT
DTSTART:20241005T160000
END:DAYLIGHT
END:VTIMEZONE
BEGIN:VEVENT
DTSTART;TZID=Australia/Melbourne:20231026T080000
DTEND;TZID=Australia/Melbourne:20231026T090000
DTSTAMP:20260426T072653
CREATED:20231004T002901Z
LAST-MODIFIED:20231004T002901Z
UID:5670-1698307200-1698310800@www.amcouncil.com.au
SUMMARY:Webinar - Lessons Learned from Asset Management Certification
DESCRIPTION:This free webinar will discuss the beneficial outcomes from gaining certification in asset management\, and in applying the concepts in ISO55001. The presentations by Dave Daines (Director\, World Partners in Asset Management; Past Chair and Director of the Asset Management Council) and Dominic Townsend (President\, ABS Quality Evaluations; Asset Leadership Network Board of Directors Member) will be followed by a Discussion Panel (Dave Daines\, Dominic Townsend\, Sally Nugent\, Mike Bordenaro and Peter Kohler) to answer your questions! \nClick here to register\nThis is #10 in the Value and Benefits from Asset Management Series – an International Web Program Series of Asset Management Success Stories presented by Asset Management Council & Asset Leadership Network to showcase how asset management contributes to local and international sustainability – one organisation at time.\nAbout the speakers: \nDave Daines\, Director\, World Partners in Asset Management; Past Chair and Director of the Asset Management Council \nDave Daines is an Asset Management professional with extensive experience in all aspects of Asset Management within the Resource Industry. He has extensive experience in the Mining Industry\, fulfilling numerous roles and functions at senior levels within a major resource company. As Head of Asset Management\, he developed and implemented an Asset Management Strategic plan for the organisation. He is Chair of MB-019\, the Australian Mirror Committee to ISO 55000 Standards Australia. He now consults in the field of Asset Management and is a Lead Auditor for Bureau Veritas. \nDominic Townsend\, President\, ABS Quality Evaluations; Asset Leadership Network Board of Directors Member \nDominic Townsend is President of ABS Quality Evaluations\, where he has worked since 2010. ABS Quality Evaluations is the management systems certification subsidiary of ABS Group. He has been in the certification industry since 1990. He has a B.S. in Accounting from Rutgers University and is a Certified Public Accountant designate from the State of New Jersey. He is a Director of Independent International Organisation for Certification. He previously served as a member of the Board for the International Accreditation of Accredited Registrars (IAAR). He is also an Asset Leadership Network Board Member.
URL:https://www.amcouncil.com.au/event/webinar-lessons-learned-from-asset-management-certification/
LOCATION:Online – Register to be sent your link
CATEGORIES:Webinar
END:VEVENT
END:VCALENDAR