BEGIN:VCALENDAR
VERSION:2.0
PRODID:-//Asset Management Council - ECPv6.15.16//NONSGML v1.0//EN
CALSCALE:GREGORIAN
METHOD:PUBLISH
X-WR-CALNAME:Asset Management Council
X-ORIGINAL-URL:https://www.amcouncil.com.au
X-WR-CALDESC:Events for Asset Management Council
REFRESH-INTERVAL;VALUE=DURATION:PT1H
X-Robots-Tag:noindex
X-PUBLISHED-TTL:PT1H
BEGIN:VTIMEZONE
TZID:Australia/Melbourne
BEGIN:STANDARD
TZOFFSETFROM:+1100
TZOFFSETTO:+1000
TZNAME:AEST
DTSTART:20220402T160000
END:STANDARD
BEGIN:DAYLIGHT
TZOFFSETFROM:+1000
TZOFFSETTO:+1100
TZNAME:AEDT
DTSTART:20221001T160000
END:DAYLIGHT
BEGIN:STANDARD
TZOFFSETFROM:+1100
TZOFFSETTO:+1000
TZNAME:AEST
DTSTART:20230401T160000
END:STANDARD
BEGIN:DAYLIGHT
TZOFFSETFROM:+1000
TZOFFSETTO:+1100
TZNAME:AEDT
DTSTART:20230930T160000
END:DAYLIGHT
BEGIN:STANDARD
TZOFFSETFROM:+1100
TZOFFSETTO:+1000
TZNAME:AEST
DTSTART:20240406T160000
END:STANDARD
BEGIN:DAYLIGHT
TZOFFSETFROM:+1000
TZOFFSETTO:+1100
TZNAME:AEDT
DTSTART:20241005T160000
END:DAYLIGHT
END:VTIMEZONE
BEGIN:VEVENT
DTSTART;TZID=Australia/Melbourne:20231205T120000
DTEND;TZID=Australia/Melbourne:20231205T123000
DTSTAMP:20260424T032154
CREATED:20231102T005906Z
LAST-MODIFIED:20231121T013318Z
UID:5820-1701777600-1701779400@www.amcouncil.com.au
SUMMARY:Webinar - Using Risks in the Operating Context to Define Stakeholder Value
DESCRIPTION:Canada’s St. Lawrence Seaway Management Corporation (SLSMC) is in the process of upgrading its Infrastructure Management Support System (IMSS)\, whilst also simultaneously implementing an Asset Management Eco-System (AMES) to align with ISO 55001. The Corporation seeks to formally define Stakeholder Value with a view to implementing Value-based Decision-making via the IMSS. \nAs part of formalising its Asset Management System\, SLSMC developed an Asset Management Value Framework with significant Internal and External Stakeholder engagement. The analysis of the Internal and External Contexts provided the opportunity to further define stakeholders’ needs more clearly in a way that might be used to define Value. This process enabled SLSMC to identify key Internal and External Risk Factors crucial to the sustainable seaway service delivery. \nIn this presentation\, Iqbal Singh Biln will share how SLSMC went about defining stakeholder value from Seaway Assets by exploring the Drivers of Value\, the associated risks\, and their impact on Seaway services in the current operating context. \n  \nClick here to register\n  \nAbout the speaker:  \nIqbal Singh Biln\, Manager\, Corporate Technical Programs\, St. Lawrence Seaway Management Corporation\, Canada \nIqbal Singh Biln is a “hands-on” certified engineering professional with 35 years varied experience in management of engineering\, maintenance\, operations\, and infrastructure in the heavy industrial industry (mining & inland navigation). \nIqbal holds a Bachelor of Mech. Engineering Degree from Central Queensland University\, Rockhampton\, Queensland\, Australia and an MBA from State University at Buffalo\, New York\, USA.  He also is a Certified Asset Management Assessor and a Certified Maintenance Management Professional. As a Six Sigma Champion\, Iqbal is committed to excellence through continuous improvements\, and always has the desire to accomplish and exceed business goals and initiatives. \nFor the last 25 years he has held various management positions at the St. Lawrence Seaway Management Corporation\, Ontario\, Canada and currently serves as the Manager\, Corporate Technical Programs.
URL:https://www.amcouncil.com.au/event/webinar-using-risks-in-the-operating-context-to-define-stakeholder-value/
LOCATION:Online – Register to be sent your link
CATEGORIES:Webinar
END:VEVENT
END:VCALENDAR