BEGIN:VCALENDAR
VERSION:2.0
PRODID:-//Asset Management Council - ECPv6.15.16//NONSGML v1.0//EN
CALSCALE:GREGORIAN
METHOD:PUBLISH
X-ORIGINAL-URL:https://www.amcouncil.com.au
X-WR-CALDESC:Events for Asset Management Council
REFRESH-INTERVAL;VALUE=DURATION:PT1H
X-Robots-Tag:noindex
X-PUBLISHED-TTL:PT1H
BEGIN:VTIMEZONE
TZID:Australia/Sydney
BEGIN:STANDARD
TZOFFSETFROM:+1100
TZOFFSETTO:+1000
TZNAME:AEST
DTSTART:20240406T160000
END:STANDARD
BEGIN:DAYLIGHT
TZOFFSETFROM:+1000
TZOFFSETTO:+1100
TZNAME:AEDT
DTSTART:20241005T160000
END:DAYLIGHT
BEGIN:STANDARD
TZOFFSETFROM:+1100
TZOFFSETTO:+1000
TZNAME:AEST
DTSTART:20250405T160000
END:STANDARD
BEGIN:DAYLIGHT
TZOFFSETFROM:+1000
TZOFFSETTO:+1100
TZNAME:AEDT
DTSTART:20251004T160000
END:DAYLIGHT
BEGIN:STANDARD
TZOFFSETFROM:+1100
TZOFFSETTO:+1000
TZNAME:AEST
DTSTART:20260404T160000
END:STANDARD
BEGIN:DAYLIGHT
TZOFFSETFROM:+1000
TZOFFSETTO:+1100
TZNAME:AEDT
DTSTART:20261003T160000
END:DAYLIGHT
END:VTIMEZONE
BEGIN:VEVENT
DTSTART;TZID=Australia/Sydney:20251203T174500
DTEND;TZID=Australia/Sydney:20251203T193000
DTSTAMP:20260420T125234
CREATED:20251126T024616Z
LAST-MODIFIED:20251127T012422Z
UID:9942-1764783900-1764790200@www.amcouncil.com.au
SUMMARY:Sydney - End of Year Review and Look Ahead
DESCRIPTION:You are warmly invited to join the Asset Management Council Sydney Chapter for our End‑of‑Year Gathering on Wednesday\, 3 December 2025\, from 5.45pm (for a 6pm start) until 7.30pm. \nThis year’s event will feature a “Year in Review and Look Ahead” format – an opportunity to reflect on 2025 highlights\, celebrate achievements\, and look forward to what is coming in 2026. \nThere will be time afterwards for networking and informal conversations. \nClick here to register
URL:https://www.amcouncil.com.au/event/sydney-end-of-year-review-and-look-ahead/
LOCATION:Ost Bar and Cafe\, Ost Bar and Cafe\, Ground Floor\, 73 Miller Street (cnr Miller and Blue Streets)\, North Sydney\, NSW\, Australia
CATEGORIES:Sydney Chapter Events
END:VEVENT
END:VCALENDAR