BEGIN:VCALENDAR
VERSION:2.0
PRODID:-//Asset Management Council - ECPv6.15.16//NONSGML v1.0//EN
CALSCALE:GREGORIAN
METHOD:PUBLISH
X-WR-CALNAME:Asset Management Council
X-ORIGINAL-URL:https://www.amcouncil.com.au
X-WR-CALDESC:Events for Asset Management Council
REFRESH-INTERVAL;VALUE=DURATION:PT1H
X-Robots-Tag:noindex
X-PUBLISHED-TTL:PT1H
BEGIN:VTIMEZONE
TZID:Australia/Melbourne
BEGIN:STANDARD
TZOFFSETFROM:+1100
TZOFFSETTO:+1000
TZNAME:AEST
DTSTART:20240406T160000
END:STANDARD
BEGIN:DAYLIGHT
TZOFFSETFROM:+1000
TZOFFSETTO:+1100
TZNAME:AEDT
DTSTART:20241005T160000
END:DAYLIGHT
BEGIN:STANDARD
TZOFFSETFROM:+1100
TZOFFSETTO:+1000
TZNAME:AEST
DTSTART:20250405T160000
END:STANDARD
BEGIN:DAYLIGHT
TZOFFSETFROM:+1000
TZOFFSETTO:+1100
TZNAME:AEDT
DTSTART:20251004T160000
END:DAYLIGHT
BEGIN:STANDARD
TZOFFSETFROM:+1100
TZOFFSETTO:+1000
TZNAME:AEST
DTSTART:20260404T160000
END:STANDARD
BEGIN:DAYLIGHT
TZOFFSETFROM:+1000
TZOFFSETTO:+1100
TZNAME:AEDT
DTSTART:20261003T160000
END:DAYLIGHT
END:VTIMEZONE
BEGIN:VEVENT
DTSTART;TZID=Australia/Melbourne:20251203T130000
DTEND;TZID=Australia/Melbourne:20251203T133000
DTSTAMP:20260425T212301
CREATED:20251030T014615Z
LAST-MODIFIED:20251030T014615Z
UID:9824-1764766800-1764768600@www.amcouncil.com.au
SUMMARY:Webinar - Intelligent Predictive Maintenance 4.0: System Architecture\, AI Integration\, and Asset Management Implications
DESCRIPTION:Artificial Intelligence (AI) is a revolutionary technology and its application across disciplines is noteworthy. AI can help in predictive maintenance by further enhancing decision making  with data driven\, dynamic\, real-time\, and an automated approach for risk informed decisions. This session is on Intelligent Predictive Maintenance (PdM 4.0): System Architecture and AI Integration applicable to Asset Management. \nClick here to register \nPresenter: \n\n		\n			\n				\n			\n			\n		 \n		\n			Dr Jhareswar Maiti\, P C Mahalanobis distinguished Educator and Suresh & Vidya Nair Chair Professor\, is currently Professor & Head\, Department of Industrial and Systems Engineering at Indian Institute of Technology\, Kharagpur. He is the founder chairman of the Centre of Excellence on Safety Engineering and Analytics at IIT Kharagpur. He has more than 23 years of experiences in teaching\, research\, and consulting\, guided 23 PhD students\, executed over 35 funded projects and conducted over 25 training programs for industry. He authored over 200 publications and is in the Editorial Board of Process Safety and Environmental Protection\, Safety Science\, International Journal of Injury Control and Safety Promotion\, and Safety & Health at Work. Prof Maiti’s research interests include safety analytics\, risk assessment\, AI and data science\, quality management\, and engineering ergonomics. He authored the textbook “Multivariate Statistical Modeling in Engineering and Management\,” published by CRC Press. Prof Maiti works with world leading companies like Tata Steel Limited\, Adani Group\, Coal India\, Haldia Petrochemicals\, etc. He is Fellow Member of Royal Statistical Society\, UK and Institute of Engineers (India). He is also member of INFORMS\, IISE\, IEEE\, etc. He will be delivering keynote address and workshop on data analytics in ICMIAM2025 (www.icmiam.com) in Berwick campus\, Federation University Australia 10-12 December 2025.
URL:https://www.amcouncil.com.au/event/webinar-intelligent-predictive-maintenance-4-0-system-architecture-ai-integration-and-asset-management-implications/
LOCATION:Online – Register to be sent your link
CATEGORIES:Maintenance,Webinar
END:VEVENT
END:VCALENDAR