BEGIN:VCALENDAR
VERSION:2.0
PRODID:-//Asset Management Council - ECPv6.15.16//NONSGML v1.0//EN
CALSCALE:GREGORIAN
METHOD:PUBLISH
X-WR-CALNAME:Asset Management Council
X-ORIGINAL-URL:https://www.amcouncil.com.au
X-WR-CALDESC:Events for Asset Management Council
REFRESH-INTERVAL;VALUE=DURATION:PT1H
X-Robots-Tag:noindex
X-PUBLISHED-TTL:PT1H
BEGIN:VTIMEZONE
TZID:Australia/Melbourne
BEGIN:STANDARD
TZOFFSETFROM:+1100
TZOFFSETTO:+1000
TZNAME:AEST
DTSTART:20220402T160000
END:STANDARD
BEGIN:DAYLIGHT
TZOFFSETFROM:+1000
TZOFFSETTO:+1100
TZNAME:AEDT
DTSTART:20221001T160000
END:DAYLIGHT
BEGIN:STANDARD
TZOFFSETFROM:+1100
TZOFFSETTO:+1000
TZNAME:AEST
DTSTART:20230401T160000
END:STANDARD
BEGIN:DAYLIGHT
TZOFFSETFROM:+1000
TZOFFSETTO:+1100
TZNAME:AEDT
DTSTART:20230930T160000
END:DAYLIGHT
BEGIN:STANDARD
TZOFFSETFROM:+1100
TZOFFSETTO:+1000
TZNAME:AEST
DTSTART:20240406T160000
END:STANDARD
BEGIN:DAYLIGHT
TZOFFSETFROM:+1000
TZOFFSETTO:+1100
TZNAME:AEDT
DTSTART:20241005T160000
END:DAYLIGHT
END:VTIMEZONE
BEGIN:VTIMEZONE
TZID:Australia/Perth
BEGIN:STANDARD
TZOFFSETFROM:+0800
TZOFFSETTO:+0800
TZNAME:AWST
DTSTART:20220101T000000
END:STANDARD
END:VTIMEZONE
BEGIN:VEVENT
DTSTART;TZID=Australia/Melbourne:20230817T080000
DTEND;TZID=Australia/Melbourne:20230817T090000
DTSTAMP:20260421T013000
CREATED:20230724T023413Z
LAST-MODIFIED:20230807T011326Z
UID:5294-1692259200-1692262800@www.amcouncil.com.au
SUMMARY:Webinar - Rail and Bus Asset Management
DESCRIPTION:Free webinar on determining the value realisation in a transport organisation from the team that brings the ‘Value and Benefits from Asset Management’ Webinar Series\, an international web program series of asset management success stories. Tune in for presentations by David Kraft\, Director Enterprise Asset Management\, Metropolitan Transit Administration\, New York; and James (Jim) Kennedy\, Mechanical Engineer with post-graduate qualifications in Risk Management and in Maintenance Engineering and Management from Swinburne University in Melbourne. \nThe presentations will be followed by a discussion panel (David Kraft\, Jim Kennedy\, Mike Bordenaro\, Peter Kohler and Sally Nugent) to answer your questions! \nClick here to register\n  \nAbout the speakers: \nDavid Kraft is the Director of Enterprise Asset Management at the Metropolitan Transportation Authority (MTA) in New York.  He is currently serving as a Director on the Institute of Asset Management USA Executive Committee and was previously a lead for the New York / New Jersey IAM Branch. David has an MBA from Loyola University\, Chicago and has 25+ years of experience in process improvement\, information management\, and financial management in both private and public organizations including Linde Gas\, Solvay\, and The Metropolitan Water Reclamation District of Greater Chicago. \n  \nJames (Jim) Kennedy is a Mechanical Engineer with post-graduate qualifications in Risk Management and in Maintenance Engineering and Management from Swinburne University in Melbourne. He has over 45 years experience in maintenance and asset management in the aerospace\, rail\, power\, water\, and defense industries. For the last 25 years Jim has been directly involved in Asset Management activities\, including 9 years as Technical Director Maintenance Engineering Society of Australia and 8 years as Chair and Board member of the Asset Management Council. Jim’s 25 years history with the Asset Management Council and its predecessors was recognized with his award of the MESA Medal.
URL:https://www.amcouncil.com.au/event/webinar-rail-asset-management/
LOCATION:Online – Register to be sent your link
CATEGORIES:Webinar
END:VEVENT
BEGIN:VEVENT
DTSTART;TZID=Australia/Perth:20230817T173000
DTEND;TZID=Australia/Perth:20230817T193000
DTSTAMP:20260421T013001
CREATED:20230725T033006Z
LAST-MODIFIED:20230726T005841Z
UID:5299-1692293400-1692300600@www.amcouncil.com.au
SUMMARY:Perth - Digital Transformation and Sustainability: Pioneering a Net Zero Future in Transportation Management
DESCRIPTION:Digital Work Management in Transportation (Anthony Dongegan\, National Asset Manager; and Craig Symons\, Asset & Systems Superintendent\, QUBE Bulk) \nThe Qube Bulk Asset Management Team will present how they have transitioned their Maintenance Work Management processes from a locally managed\, paper based system to a Digital tablet and Online solution within a National Transport organisation. Learnings to be shared on approach taken\, integration of multiple platforms and benefits. \nClimate Action: Establishing a Sustainable and Net Zero Future for Transport (Steve Beyer\, Director Portfolio Strategic Projects Office\, Government of WA\, Department of Transport) \nThe Department of Transport is leading the development of the Transport Sector Emissions Reduction Strategy\, as part of a suite of emissions reduction strategies for Western Australia’s economy. These are focussed on achieving the Government’s commitment to achieve net zero emissions by 2050\, and informing an interim 2035 target and initiatives to drive that change. The presentation will provide an overview of transport sector emissions\, the pathways to 2035 for the different parts of transport\, and key drivers for emissions reduction. \nClick here to register\n  \nAbout the speakers:  \nAnthony Donegan\, National Asset Manager\, QUBE Bulk \nAnthony Donegan is an experienced Asset Management Professional within the mining and haulage industry. He has a wide range of skills around whole of life asset management\, commercial negotiations\, system integration projects with strong leadership qualities. Anthony has held a variety of positions that has been responsible for large fleet maintenance\, work management and an operational fleet monitoring department. \nAnthony’s role as the National Asset Manager for Qube Bulk covers the key areas of Fleet Procurement and Design\, Materials supplier management\, Support Systems and processes\, standardisation of Whole of Life Cycle Cost management whilst looking for improvement initiatives through systems or technology based solutions. He has worked across a Heavy Haul\, Cranes and Fixed Plant asset base. \nCraig Symons\, Asset & Systems Superintendent\, QUBE Bulk \nCraig is an experienced asset management specialist with a demonstrated history of working in the mining industry.  He is skilled in budgeting\, mining\, minerals\, continuous improvement\, and plant maintenance.  He is a strong consulting professional with good communication skills across all levels of organisations. \nIn his current role\, Craig is responsible for the promotion of work management practises through efficient solutions that optimise the time required by sites to complete the various activities. This is achieved through an understanding of system capability and defining the processes which site personnel can consistently work with or report through. \nSteve Beyer\, Director Portfolio Strategic Projects Office\, Government of Western Australia\, Department of Transport \nSteve Beyer has worked in WA Government transport agencies for over 40 years. He leads the WA Transport Portfolio’s work on climate action\, dealing with climate risk and adaptation\, and emissions reduction for the Portfolio’s activities and for the wider transport sector.
URL:https://www.amcouncil.com.au/event/perth-digital-transformation-and-sustainability-pioneering-a-net-zero-future-in-transportation-management/
LOCATION:Aurecon Group Perth Office\, 5th Floor\, 863 Hay Street\, Perth\, WA\, 6000\, Australia
CATEGORIES:Chapter Events,Government,Perth Chapter Events,Sustainability
END:VEVENT
END:VCALENDAR