BEGIN:VCALENDAR
VERSION:2.0
PRODID:-//Asset Management Council - ECPv6.15.16//NONSGML v1.0//EN
CALSCALE:GREGORIAN
METHOD:PUBLISH
X-ORIGINAL-URL:https://www.amcouncil.com.au
X-WR-CALDESC:Events for Asset Management Council
REFRESH-INTERVAL;VALUE=DURATION:PT1H
X-Robots-Tag:noindex
X-PUBLISHED-TTL:PT1H
BEGIN:VTIMEZONE
TZID:Australia/Melbourne
BEGIN:STANDARD
TZOFFSETFROM:+1100
TZOFFSETTO:+1000
TZNAME:AEST
DTSTART:20220402T160000
END:STANDARD
BEGIN:DAYLIGHT
TZOFFSETFROM:+1000
TZOFFSETTO:+1100
TZNAME:AEDT
DTSTART:20221001T160000
END:DAYLIGHT
BEGIN:STANDARD
TZOFFSETFROM:+1100
TZOFFSETTO:+1000
TZNAME:AEST
DTSTART:20230401T160000
END:STANDARD
BEGIN:DAYLIGHT
TZOFFSETFROM:+1000
TZOFFSETTO:+1100
TZNAME:AEDT
DTSTART:20230930T160000
END:DAYLIGHT
BEGIN:STANDARD
TZOFFSETFROM:+1100
TZOFFSETTO:+1000
TZNAME:AEST
DTSTART:20240406T160000
END:STANDARD
BEGIN:DAYLIGHT
TZOFFSETFROM:+1000
TZOFFSETTO:+1100
TZNAME:AEDT
DTSTART:20241005T160000
END:DAYLIGHT
END:VTIMEZONE
BEGIN:VEVENT
DTSTART;TZID=Australia/Melbourne:20230912T130000
DTEND;TZID=Australia/Melbourne:20230912T133000
DTSTAMP:20260420T203008
CREATED:20230822T043835Z
LAST-MODIFIED:20230822T053142Z
UID:5464-1694523600-1694525400@www.amcouncil.com.au
SUMMARY:Webinar - TC251 ISO55001x Review update
DESCRIPTION:Martin Kerr is the AMCouncil representative on the Standards Australia MB-19 Committee which is the Australian mirror committee for the International ISO/TC251 Committee.  The ISO/TC251 committee is the group that looks after the ISO5500x group of Asset Management standards. \nIn this presentation Martin will provide an overview of the groups of asset management standards and the work of the ISO/TC251 committee in review and update of these standards.  He will detail changes to the standards and advise how you can contribute to the work of the committee and provide feedback to these important standards. \n  \nClick here to register\n  \nAbout the speaker:  \nMartin Kerr is our representative on MB-19 and the current convener of ISO55001. Martin is a Certified Fellow in Asset Management (CFAM) and a Certified Asset Management Assessor (CAMA). Martin is the founder of Structured Change Pty Ltd\, co-author of Living Asset Management Maturity\, an active AMBok team member and an Asset Management Maturity Assessor for the Council. Martin is also the Technical Manager of the WPiAM CAMA team and a project member at the GFMAM.
URL:https://www.amcouncil.com.au/event/tc251-iso55001x-review-update/
LOCATION:Online – Register to be sent your link
CATEGORIES:Webinar
END:VEVENT
END:VCALENDAR